BEGIN:VCALENDAR
VERSION:2.0
PRODID:-//Millville Senior Center - ECPv6.15.20//NONSGML v1.0//EN
CALSCALE:GREGORIAN
METHOD:PUBLISH
X-ORIGINAL-URL:https://millvilleseniorcenter.org
X-WR-CALDESC:Events for Millville Senior Center
REFRESH-INTERVAL;VALUE=DURATION:PT1H
X-Robots-Tag:noindex
X-PUBLISHED-TTL:PT1H
BEGIN:VTIMEZONE
TZID:America/New_York
BEGIN:DAYLIGHT
TZOFFSETFROM:-0500
TZOFFSETTO:-0400
TZNAME:EDT
DTSTART:20230312T070000
END:DAYLIGHT
BEGIN:STANDARD
TZOFFSETFROM:-0400
TZOFFSETTO:-0500
TZNAME:EST
DTSTART:20231105T060000
END:STANDARD
BEGIN:DAYLIGHT
TZOFFSETFROM:-0500
TZOFFSETTO:-0400
TZNAME:EDT
DTSTART:20240310T070000
END:DAYLIGHT
BEGIN:STANDARD
TZOFFSETFROM:-0400
TZOFFSETTO:-0500
TZNAME:EST
DTSTART:20241103T060000
END:STANDARD
BEGIN:DAYLIGHT
TZOFFSETFROM:-0500
TZOFFSETTO:-0400
TZNAME:EDT
DTSTART:20250309T070000
END:DAYLIGHT
BEGIN:STANDARD
TZOFFSETFROM:-0400
TZOFFSETTO:-0500
TZNAME:EST
DTSTART:20251102T060000
END:STANDARD
END:VTIMEZONE
BEGIN:VEVENT
DTSTART;TZID=America/New_York:20240902T080000
DTEND;TZID=America/New_York:20240902T170000
DTSTAMP:20260421T083758
CREATED:20240819T161730Z
LAST-MODIFIED:20240819T161819Z
UID:1043-1725264000-1725296400@millvilleseniorcenter.org
SUMMARY:Happy Labor Day - Closed
DESCRIPTION:
URL:https://millvilleseniorcenter.org/event/happy-labor-day-closed-2/
END:VEVENT
BEGIN:VEVENT
DTSTART;VALUE=DATE:20240902
DTEND;VALUE=DATE:20240903
DTSTAMP:20260421T083758
CREATED:20240819T161216Z
LAST-MODIFIED:20240819T161216Z
UID:1039-1725235200-1725321599@millvilleseniorcenter.org
SUMMARY:Happy Labor Day - Closed
DESCRIPTION:
URL:https://millvilleseniorcenter.org/event/happy-labor-day-closed/
END:VEVENT
BEGIN:VEVENT
DTSTART;TZID=America/New_York:20240819T130000
DTEND;TZID=America/New_York:20240819T153000
DTSTAMP:20260421T083758
CREATED:20240819T182852Z
LAST-MODIFIED:20240723T183131Z
UID:962-1724072400-1724081400@millvilleseniorcenter.org
SUMMARY:ICE CREAM SOCIAL (FREE)
DESCRIPTION:
URL:https://millvilleseniorcenter.org/event/ice-cream-social-free/
END:VEVENT
BEGIN:VEVENT
DTSTART;TZID=America/New_York:20240819T130000
DTEND;TZID=America/New_York:20240819T143000
DTSTAMP:20260421T083758
CREATED:20240729T152159Z
LAST-MODIFIED:20240729T152159Z
UID:1022-1724072400-1724077800@millvilleseniorcenter.org
SUMMARY:Ice Cream Social (Free)
DESCRIPTION:
URL:https://millvilleseniorcenter.org/event/ice-cream-social-free-2/
END:VEVENT
BEGIN:VEVENT
DTSTART;TZID=America/New_York:20240812T113000
DTEND;TZID=America/New_York:20240812T143000
DTSTAMP:20260421T083758
CREATED:20240723T181837Z
LAST-MODIFIED:20240723T183403Z
UID:950-1723462200-1723473000@millvilleseniorcenter.org
SUMMARY:Senior Club Lunch\, Joey C Entertainment
DESCRIPTION:
URL:https://millvilleseniorcenter.org/event/senior-club-lunch-joey-c-entertainment/
END:VEVENT
BEGIN:VEVENT
DTSTART;TZID=America/New_York:20240808T100000
DTEND;TZID=America/New_York:20240808T143000
DTSTAMP:20260421T083758
CREATED:20240723T181213Z
LAST-MODIFIED:20240723T181227Z
UID:947-1723111200-1723127400@millvilleseniorcenter.org
SUMMARY:Painting
DESCRIPTION:
URL:https://millvilleseniorcenter.org/event/painting-2/
END:VEVENT
BEGIN:VEVENT
DTSTART;TZID=America/New_York:20240807T130000
DTEND;TZID=America/New_York:20240807T160000
DTSTAMP:20260421T083758
CREATED:20240723T180338Z
LAST-MODIFIED:20240723T180338Z
UID:938-1723035600-1723046400@millvilleseniorcenter.org
SUMMARY:Hand\, Knee and Foot
DESCRIPTION:
URL:https://millvilleseniorcenter.org/event/hand-knee-and-foot-2/
END:VEVENT
BEGIN:VEVENT
DTSTART;TZID=America/New_York:20240806T133000
DTEND;TZID=America/New_York:20240806T141500
DTSTAMP:20260421T083758
CREATED:20240723T175505Z
LAST-MODIFIED:20240723T175505Z
UID:935-1722951000-1722953700@millvilleseniorcenter.org
SUMMARY:YOGA
DESCRIPTION:
URL:https://millvilleseniorcenter.org/event/yoga-7/
END:VEVENT
BEGIN:VEVENT
DTSTART;TZID=America/New_York:20240806T104500
DTEND;TZID=America/New_York:20240806T130000
DTSTAMP:20260421T083758
CREATED:20240723T174456Z
LAST-MODIFIED:20240723T180215Z
UID:924-1722941100-1722949200@millvilleseniorcenter.org
SUMMARY:PITCH
DESCRIPTION:
URL:https://millvilleseniorcenter.org/event/pitch-49/
END:VEVENT
BEGIN:VEVENT
DTSTART;TZID=America/New_York:20240806T093000
DTEND;TZID=America/New_York:20240806T103000
DTSTAMP:20260421T083758
CREATED:20240805T142005Z
LAST-MODIFIED:20240805T142005Z
UID:1027-1722936600-1722940200@millvilleseniorcenter.org
SUMMARY:Line Dance
DESCRIPTION:
URL:https://millvilleseniorcenter.org/event/line-dance-4/
END:VEVENT
BEGIN:VEVENT
DTSTART;TZID=America/New_York:20240801T130000
DTEND;TZID=America/New_York:20240801T143000
DTSTAMP:20260421T083758
CREATED:20240729T145407Z
LAST-MODIFIED:20240729T145407Z
UID:1016-1722517200-1722522600@millvilleseniorcenter.org
SUMMARY:Bingo
DESCRIPTION:
URL:https://millvilleseniorcenter.org/event/bingo-13/
END:VEVENT
BEGIN:VEVENT
DTSTART;TZID=America/New_York:20240801T120000
DTEND;TZID=America/New_York:20240801T130000
DTSTAMP:20260421T083758
CREATED:20240729T145128Z
LAST-MODIFIED:20240729T152000Z
UID:1012-1722513600-1722517200@millvilleseniorcenter.org
SUMMARY:Lunch - [Cloned #878]
DESCRIPTION:
URL:https://millvilleseniorcenter.org/event/lunch-cloned-878/
END:VEVENT
BEGIN:VEVENT
DTSTART;TZID=America/New_York:20240628T113000
DTEND;TZID=America/New_York:20240628T133000
DTSTAMP:20260421T083758
CREATED:20240611T175859Z
LAST-MODIFIED:20240611T175859Z
UID:880-1719574200-1719581400@millvilleseniorcenter.org
SUMMARY:Rep Soter Senior Lunch FREE
DESCRIPTION:
URL:https://millvilleseniorcenter.org/event/rep-soter-senior-lunch-free/
END:VEVENT
BEGIN:VEVENT
DTSTART;TZID=America/New_York:20240627T120000
DTEND;TZID=America/New_York:20240627T130000
DTSTAMP:20260421T083758
CREATED:20240611T175801Z
LAST-MODIFIED:20240611T175801Z
UID:878-1719489600-1719493200@millvilleseniorcenter.org
SUMMARY:Lunch
DESCRIPTION:
URL:https://millvilleseniorcenter.org/event/lunch-3/
END:VEVENT
BEGIN:VEVENT
DTSTART;TZID=America/New_York:20240627T110000
DTEND;TZID=America/New_York:20240627T140000
DTSTAMP:20260421T083758
CREATED:20240611T175732Z
LAST-MODIFIED:20240611T175732Z
UID:876-1719486000-1719496800@millvilleseniorcenter.org
SUMMARY:Movie: Top Gun
DESCRIPTION:
URL:https://millvilleseniorcenter.org/event/movie-top-gun/
END:VEVENT
BEGIN:VEVENT
DTSTART;TZID=America/New_York:20240626T130000
DTEND;TZID=America/New_York:20240626T160000
DTSTAMP:20260421T083758
CREATED:20240611T175653Z
LAST-MODIFIED:20240611T175653Z
UID:874-1719406800-1719417600@millvilleseniorcenter.org
SUMMARY:Hand\, Knee & Foot (Cards)
DESCRIPTION:
URL:https://millvilleseniorcenter.org/event/hand-knee-foot-cards-2/
END:VEVENT
BEGIN:VEVENT
DTSTART;TZID=America/New_York:20240625T133000
DTEND;TZID=America/New_York:20240625T141500
DTSTAMP:20260421T083758
CREATED:20240611T175608Z
LAST-MODIFIED:20240611T175608Z
UID:872-1719322200-1719324900@millvilleseniorcenter.org
SUMMARY:Chair Yoga
DESCRIPTION:
URL:https://millvilleseniorcenter.org/event/chair-yoga-2/
END:VEVENT
BEGIN:VEVENT
DTSTART;TZID=America/New_York:20240625T104500
DTEND;TZID=America/New_York:20240625T130000
DTSTAMP:20260421T083758
CREATED:20240611T175531Z
LAST-MODIFIED:20240611T175531Z
UID:870-1719312300-1719320400@millvilleseniorcenter.org
SUMMARY:Pitch
DESCRIPTION:
URL:https://millvilleseniorcenter.org/event/pitch-48/
END:VEVENT
BEGIN:VEVENT
DTSTART;TZID=America/New_York:20240625T093000
DTEND;TZID=America/New_York:20240625T103000
DTSTAMP:20260421T083758
CREATED:20240806T133059Z
LAST-MODIFIED:20240729T152458Z
UID:868-1719307800-1719311400@millvilleseniorcenter.org
SUMMARY:Line Dance
DESCRIPTION:
URL:https://millvilleseniorcenter.org/event/line-dance-3/
END:VEVENT
BEGIN:VEVENT
DTSTART;TZID=America/New_York:20240624T100000
DTEND;TZID=America/New_York:20240624T230000
DTSTAMP:20260421T083758
CREATED:20240611T175422Z
LAST-MODIFIED:20240611T175422Z
UID:866-1719223200-1719270000@millvilleseniorcenter.org
SUMMARY:Craft- Cork Flag
DESCRIPTION:
URL:https://millvilleseniorcenter.org/event/craft-cork-flag/
END:VEVENT
BEGIN:VEVENT
DTSTART;TZID=America/New_York:20240620T130000
DTEND;TZID=America/New_York:20240620T143000
DTSTAMP:20260421T083758
CREATED:20240611T175324Z
LAST-MODIFIED:20240611T175324Z
UID:864-1718888400-1718893800@millvilleseniorcenter.org
SUMMARY:COA Meeting
DESCRIPTION:
URL:https://millvilleseniorcenter.org/event/coa-meeting-4/
END:VEVENT
BEGIN:VEVENT
DTSTART;TZID=America/New_York:20240620T120000
DTEND;TZID=America/New_York:20240620T130000
DTSTAMP:20260421T083758
CREATED:20240611T175249Z
LAST-MODIFIED:20240611T175249Z
UID:862-1718884800-1718888400@millvilleseniorcenter.org
SUMMARY:Lunch
DESCRIPTION:
URL:https://millvilleseniorcenter.org/event/lunch-2/
END:VEVENT
BEGIN:VEVENT
DTSTART;VALUE=DATE:20240619
DTEND;VALUE=DATE:20240620
DTSTAMP:20260421T083758
CREATED:20240611T175140Z
LAST-MODIFIED:20240611T175207Z
UID:859-1718755200-1718841599@millvilleseniorcenter.org
SUMMARY:Closed Holiday
DESCRIPTION:
URL:https://millvilleseniorcenter.org/event/hand-knee-foot-cards/
END:VEVENT
BEGIN:VEVENT
DTSTART;TZID=America/New_York:20240618T104500
DTEND;TZID=America/New_York:20240618T130000
DTSTAMP:20260421T083758
CREATED:20240611T175018Z
LAST-MODIFIED:20240611T175018Z
UID:855-1718707500-1718715600@millvilleseniorcenter.org
SUMMARY:Pitch
DESCRIPTION:
URL:https://millvilleseniorcenter.org/event/pitch-47/
END:VEVENT
BEGIN:VEVENT
DTSTART;TZID=America/New_York:20240618T093000
DTEND;TZID=America/New_York:20240618T223000
DTSTAMP:20260421T083758
CREATED:20240611T174943Z
LAST-MODIFIED:20240611T174943Z
UID:853-1718703000-1718749800@millvilleseniorcenter.org
SUMMARY:Line Dance
DESCRIPTION:
URL:https://millvilleseniorcenter.org/event/line-dance-2/
END:VEVENT
BEGIN:VEVENT
DTSTART;TZID=America/New_York:20240618T013000
DTEND;TZID=America/New_York:20240618T141500
DTSTAMP:20260421T083758
CREATED:20240611T175048Z
LAST-MODIFIED:20240611T175048Z
UID:857-1718674200-1718720100@millvilleseniorcenter.org
SUMMARY:Chair Yoga
DESCRIPTION:
URL:https://millvilleseniorcenter.org/event/chair-yoga/
END:VEVENT
BEGIN:VEVENT
DTSTART;TZID=America/New_York:20240617T120000
DTEND;TZID=America/New_York:20240617T130000
DTSTAMP:20260421T083758
CREATED:20240611T174837Z
LAST-MODIFIED:20240611T174837Z
UID:850-1718625600-1718629200@millvilleseniorcenter.org
SUMMARY:Lunch - Pizza
DESCRIPTION:
URL:https://millvilleseniorcenter.org/event/lunch-pizza/
END:VEVENT
BEGIN:VEVENT
DTSTART;TZID=America/New_York:20240617T100000
DTEND;TZID=America/New_York:20240617T120000
DTSTAMP:20260421T083758
CREATED:20240611T174723Z
LAST-MODIFIED:20240611T174723Z
UID:845-1718618400-1718625600@millvilleseniorcenter.org
SUMMARY:Craft: Dog Toy
DESCRIPTION:
URL:https://millvilleseniorcenter.org/event/craft-dog-toy/
END:VEVENT
BEGIN:VEVENT
DTSTART;TZID=America/New_York:20240613T120000
DTEND;TZID=America/New_York:20240613T130000
DTSTAMP:20260421T083758
CREATED:20240611T174409Z
LAST-MODIFIED:20240611T174409Z
UID:834-1718280000-1718283600@millvilleseniorcenter.org
SUMMARY:Lunch
DESCRIPTION:
URL:https://millvilleseniorcenter.org/event/lunch/
END:VEVENT
BEGIN:VEVENT
DTSTART;TZID=America/New_York:20240613T100000
DTEND;TZID=America/New_York:20240613T143000
DTSTAMP:20260421T083758
CREATED:20240611T174243Z
LAST-MODIFIED:20240611T174243Z
UID:824-1718272800-1718289000@millvilleseniorcenter.org
SUMMARY:Painting
DESCRIPTION:
URL:https://millvilleseniorcenter.org/event/painting/
END:VEVENT
END:VCALENDAR